BEGIN:VCALENDAR
VERSION:2.0
PRODID:-//Connect Unteres Filstal - ECPv6.15.20//NONSGML v1.0//EN
CALSCALE:GREGORIAN
METHOD:PUBLISH
X-WR-CALNAME:Connect Unteres Filstal
X-ORIGINAL-URL:https://connect-unteres-filstal.de
X-WR-CALDESC:Veranstaltungen für Connect Unteres Filstal
REFRESH-INTERVAL;VALUE=DURATION:PT1H
X-Robots-Tag:noindex
X-PUBLISHED-TTL:PT1H
BEGIN:VTIMEZONE
TZID:Europe/Berlin
BEGIN:DAYLIGHT
TZOFFSETFROM:+0100
TZOFFSETTO:+0200
TZNAME:CEST
DTSTART:20250330T010000
END:DAYLIGHT
BEGIN:STANDARD
TZOFFSETFROM:+0200
TZOFFSETTO:+0100
TZNAME:CET
DTSTART:20251026T010000
END:STANDARD
BEGIN:DAYLIGHT
TZOFFSETFROM:+0100
TZOFFSETTO:+0200
TZNAME:CEST
DTSTART:20260329T010000
END:DAYLIGHT
BEGIN:STANDARD
TZOFFSETFROM:+0200
TZOFFSETTO:+0100
TZNAME:CET
DTSTART:20261025T010000
END:STANDARD
BEGIN:DAYLIGHT
TZOFFSETFROM:+0100
TZOFFSETTO:+0200
TZNAME:CEST
DTSTART:20270328T010000
END:DAYLIGHT
BEGIN:STANDARD
TZOFFSETFROM:+0200
TZOFFSETTO:+0100
TZNAME:CET
DTSTART:20271031T010000
END:STANDARD
END:VTIMEZONE
BEGIN:VEVENT
DTSTART;TZID=Europe/Berlin:20260509T190000
DTEND;TZID=Europe/Berlin:20260509T220000
DTSTAMP:20260425T130249
CREATED:20251010T150436Z
LAST-MODIFIED:20251010T150526Z
UID:2114-1778353200-1778364000@connect-unteres-filstal.de
SUMMARY:conNight | Das ökumenische Jugendevent
DESCRIPTION:>> Infos folgen <<
URL:https://connect-unteres-filstal.de/event/connight-das-oekumenische-jugendevent-3/
LOCATION:Das CREDO\, Fritz-Kauffmann-Straße 8+10\, Ebersbach an der Fils\, Baden-Württemberg\, 73061\, Deutschland
CATEGORIES:conNight
ATTACH;FMTTYPE=image/png:https://connect-unteres-filstal.de/wp-content/uploads/2023/09/connect-logo-mH.png
ORGANIZER;CN="Connect":MAILTO:info@connect-unteres-filstal.de
END:VEVENT
BEGIN:VEVENT
DTSTART;TZID=Europe/Berlin:20261107T190000
DTEND;TZID=Europe/Berlin:20261107T220000
DTSTAMP:20260425T130249
CREATED:20251010T145929Z
LAST-MODIFIED:20251010T150506Z
UID:2112-1794078000-1794088800@connect-unteres-filstal.de
SUMMARY:conNight | Das ökumenische Jugendevent
DESCRIPTION:>> Infos folgen <<
URL:https://connect-unteres-filstal.de/event/connight-das-oekumenische-jugendevent-copy-2/
LOCATION:Baden-Württemberg
CATEGORIES:conNight
ATTACH;FMTTYPE=image/png:https://connect-unteres-filstal.de/wp-content/uploads/2023/09/connect-logo-mH.png
ORGANIZER;CN="Connect":MAILTO:info@connect-unteres-filstal.de
END:VEVENT
END:VCALENDAR